BEGIN:VCALENDAR
VERSION:2.0
PRODID:-//Divine Barrel Brewing - ECPv6.15.20//NONSGML v1.0//EN
CALSCALE:GREGORIAN
METHOD:PUBLISH
X-ORIGINAL-URL:https://divinebarrel.com
X-WR-CALDESC:Events for Divine Barrel Brewing
REFRESH-INTERVAL;VALUE=DURATION:PT1H
X-Robots-Tag:noindex
X-PUBLISHED-TTL:PT1H
BEGIN:VTIMEZONE
TZID:America/New_York
BEGIN:DAYLIGHT
TZOFFSETFROM:-0500
TZOFFSETTO:-0400
TZNAME:EDT
DTSTART:20240310T070000
END:DAYLIGHT
BEGIN:STANDARD
TZOFFSETFROM:-0400
TZOFFSETTO:-0500
TZNAME:EST
DTSTART:20241103T060000
END:STANDARD
BEGIN:DAYLIGHT
TZOFFSETFROM:-0500
TZOFFSETTO:-0400
TZNAME:EDT
DTSTART:20250309T070000
END:DAYLIGHT
BEGIN:STANDARD
TZOFFSETFROM:-0400
TZOFFSETTO:-0500
TZNAME:EST
DTSTART:20251102T060000
END:STANDARD
BEGIN:DAYLIGHT
TZOFFSETFROM:-0500
TZOFFSETTO:-0400
TZNAME:EDT
DTSTART:20260308T070000
END:DAYLIGHT
BEGIN:STANDARD
TZOFFSETFROM:-0400
TZOFFSETTO:-0500
TZNAME:EST
DTSTART:20261101T060000
END:STANDARD
END:VTIMEZONE
BEGIN:VEVENT
DTSTART;TZID=America/New_York:20250520T170000
DTEND;TZID=America/New_York:20250520T210000
DTSTAMP:20260422T052525
CREATED:20241231T203314Z
LAST-MODIFIED:20241231T203314Z
UID:10001707-1747760400-1747774800@divinebarrel.com
SUMMARY:Bring Your Own Vinyl night
DESCRIPTION:Bring Your Own Vinyl every Tuesday night at Divine Barrel! Listen\, talk and share your favorite records\, dig through our house crate\, or check out new vinyl from our Premium Sound pop-up shop!
URL:https://divinebarrel.com/upcoming-event/bring-your-own-vinyl-night-2/2025-05-20/
LOCATION:Divine Barrel Brewing\, 3701 North Davidson Street\, Charlotte\, NC\, 28205\, United States
CATEGORIES:Arts & Culture
ORGANIZER;CN="Divine Barrel Brewing":MAILTO:info@divinebarrel.com
GEO:35.250218722682;-80.796329286936
X-APPLE-STRUCTURED-LOCATION;VALUE=URI;X-ADDRESS=Divine Barrel Brewing 3701 North Davidson Street Charlotte NC 28205 United States;X-APPLE-RADIUS=500;X-TITLE=3701 North Davidson Street:geo:-80.796329286936,35.250218722682
END:VEVENT
BEGIN:VEVENT
DTSTART;TZID=America/New_York:20250520T183000
DTEND;TZID=America/New_York:20250520T200000
DTSTAMP:20260422T052525
CREATED:20250512T201958Z
LAST-MODIFIED:20250512T201958Z
UID:10002347-1747765800-1747771200@divinebarrel.com
SUMMARY:Skillpop: Excel for Beginners
DESCRIPTION:Taught by\nKathryn Van de Houten \nLocation\nDivine Barrel Brewing \nDescription\nStruggling with spreadsheets and not sure where to start? New to Excel? No worries! In this hands-on class\, we’ll turn you from a spreadsheet spectator into a confident creator. Join Kathryn Van de Houten\, Senior Excel Instructor\, to learn the basics—navigating Excel\, entering data\, simple formulas\, formatting tricks\, and more! By the end\, you’ll be organizing information like a pro and wondering how you ever lived without it. \nMaterials\nPlease bring your preferred method of note taking. Bringing a laptop with Excel installed will help you follow along and get the most out of the class but is not required. \nWho Should Take This Class?\nThis class is perfect for anyone who wants to build confidence using Excel—whether you’re managing personal budgets\, organizing to-do lists\, or looking to boost your skills at work. If you’ve ever opened a spreadsheet and felt overwhelmed\, or just want to be more efficient in your personal or professional life\, this class is for you. No prior experience needed—just curiosity and a desire to get things done smarter\, not harder.
URL:https://divinebarrel.com/upcoming-event/skillpop-excel-for-beginners/
LOCATION:NC
CATEGORIES:Skillpop,Ticketed Event
ATTACH;FMTTYPE=image/png:https://divinebarrel.com/wp-content/uploads/2025/05/052025-Skillpop-TV-Slider.png
END:VEVENT
END:VCALENDAR