BEGIN:VCALENDAR
VERSION:2.0
PRODID:-//Divine Barrel Brewing - ECPv6.15.20//NONSGML v1.0//EN
CALSCALE:GREGORIAN
METHOD:PUBLISH
X-WR-CALNAME:Divine Barrel Brewing
X-ORIGINAL-URL:https://divinebarrel.com
X-WR-CALDESC:Events for Divine Barrel Brewing
REFRESH-INTERVAL;VALUE=DURATION:PT1H
X-Robots-Tag:noindex
X-PUBLISHED-TTL:PT1H
BEGIN:VTIMEZONE
TZID:America/New_York
BEGIN:DAYLIGHT
TZOFFSETFROM:-0500
TZOFFSETTO:-0400
TZNAME:EDT
DTSTART:20240310T070000
END:DAYLIGHT
BEGIN:STANDARD
TZOFFSETFROM:-0400
TZOFFSETTO:-0500
TZNAME:EST
DTSTART:20241103T060000
END:STANDARD
BEGIN:DAYLIGHT
TZOFFSETFROM:-0500
TZOFFSETTO:-0400
TZNAME:EDT
DTSTART:20250309T070000
END:DAYLIGHT
BEGIN:STANDARD
TZOFFSETFROM:-0400
TZOFFSETTO:-0500
TZNAME:EST
DTSTART:20251102T060000
END:STANDARD
BEGIN:DAYLIGHT
TZOFFSETFROM:-0500
TZOFFSETTO:-0400
TZNAME:EDT
DTSTART:20260308T070000
END:DAYLIGHT
BEGIN:STANDARD
TZOFFSETFROM:-0400
TZOFFSETTO:-0500
TZNAME:EST
DTSTART:20261101T060000
END:STANDARD
END:VTIMEZONE
BEGIN:VEVENT
DTSTART;TZID=America/New_York:20250526T120000
DTEND;TZID=America/New_York:20250526T170000
DTSTAMP:20260421T222351
CREATED:20250512T202526Z
LAST-MODIFIED:20250512T202526Z
UID:10002349-1748260800-1748278800@divinebarrel.com
SUMMARY:Annual DBB Memorial Day Cookout
DESCRIPTION:It’s time once again for the Annual DBB Memorial Day Cookout! We’ll be firing up the grill at noon\, serving up burgers\, hot dogs & grilled cheese to raise money for Second Harvest Food Bank of the Metrolinas. Come out and donate a few bucks for a good cause and grab some traditional cookout snacks! There’s probably going to be potato salad\, too. Starts at noon\, and goes ’til we run out (or 5pm\, but c’mon\, y’all are gonna eat).
URL:https://divinebarrel.com/upcoming-event/annual-dbb-memorial-day-cookout-2/
LOCATION:Divine Barrel Brewing\, 3701 North Davidson Street\, Charlotte\, NC\, 28205\, United States
CATEGORIES:Block party,Free Event
ATTACH;FMTTYPE=image/png:https://divinebarrel.com/wp-content/uploads/2025/05/052625-Memorial-Day-Cookout-TV-Slider.png
ORGANIZER;CN="Divine Barrel Brewing":MAILTO:info@divinebarrel.com
GEO:35.250218722682;-80.796329286936
X-APPLE-STRUCTURED-LOCATION;VALUE=URI;X-ADDRESS=Divine Barrel Brewing 3701 North Davidson Street Charlotte NC 28205 United States;X-APPLE-RADIUS=500;X-TITLE=3701 North Davidson Street:geo:-80.796329286936,35.250218722682
END:VEVENT
BEGIN:VEVENT
DTSTART;TZID=America/New_York:20250526T190000
DTEND;TZID=America/New_York:20250526T220000
DTSTAMP:20260421T222351
CREATED:20240311T175824Z
LAST-MODIFIED:20250115T165934Z
UID:10001777-1748286000-1748296800@divinebarrel.com
SUMMARY:Mindless Minutia Trivia with Dave Chase
DESCRIPTION:Mindless Minutia Trivia with Dave Chase\nEvery Monday is trivia night at Divine Barrel! Assemble your team for four rounds of trivia with host Dave Chase – the top three teams win brewery prizes! Expect rounds of general knowledge\, wordplay\, themes and more brain-burners that will get everyone on the team thinking. The deal gets even sweeter when you throw $10 flights into the mix – so grab your table\, pens and brainpower for weekly trivia at DBB!
URL:https://divinebarrel.com/upcoming-event/mindless-minutia-trivia-with-dave-chase/2025-05-26/
LOCATION:Divine Barrel Brewing\, 3701 North Davidson Street\, Charlotte\, NC\, 28205\, United States
CATEGORIES:Arts & Culture,Family Friendly,Game Night,Trivia Night
ATTACH;FMTTYPE=image/png:https://divinebarrel.com/wp-content/uploads/2024/03/monday-TV-vid.png
ORGANIZER;CN="Divine Barrel Brewing":MAILTO:info@divinebarrel.com
GEO:35.250218722682;-80.796329286936
X-APPLE-STRUCTURED-LOCATION;VALUE=URI;X-ADDRESS=Divine Barrel Brewing 3701 North Davidson Street Charlotte NC 28205 United States;X-APPLE-RADIUS=500;X-TITLE=3701 North Davidson Street:geo:-80.796329286936,35.250218722682
END:VEVENT
END:VCALENDAR