BEGIN:VCALENDAR
VERSION:2.0
PRODID:-//Divine Barrel Brewing - ECPv6.15.20//NONSGML v1.0//EN
CALSCALE:GREGORIAN
METHOD:PUBLISH
X-WR-CALNAME:Divine Barrel Brewing
X-ORIGINAL-URL:https://divinebarrel.com
X-WR-CALDESC:Events for Divine Barrel Brewing
REFRESH-INTERVAL;VALUE=DURATION:PT1H
X-Robots-Tag:noindex
X-PUBLISHED-TTL:PT1H
BEGIN:VTIMEZONE
TZID:America/New_York
BEGIN:DAYLIGHT
TZOFFSETFROM:-0500
TZOFFSETTO:-0400
TZNAME:EDT
DTSTART:20240310T070000
END:DAYLIGHT
BEGIN:STANDARD
TZOFFSETFROM:-0400
TZOFFSETTO:-0500
TZNAME:EST
DTSTART:20241103T060000
END:STANDARD
BEGIN:DAYLIGHT
TZOFFSETFROM:-0500
TZOFFSETTO:-0400
TZNAME:EDT
DTSTART:20250309T070000
END:DAYLIGHT
BEGIN:STANDARD
TZOFFSETFROM:-0400
TZOFFSETTO:-0500
TZNAME:EST
DTSTART:20251102T060000
END:STANDARD
BEGIN:DAYLIGHT
TZOFFSETFROM:-0500
TZOFFSETTO:-0400
TZNAME:EDT
DTSTART:20260308T070000
END:DAYLIGHT
BEGIN:STANDARD
TZOFFSETFROM:-0400
TZOFFSETTO:-0500
TZNAME:EST
DTSTART:20261101T060000
END:STANDARD
END:VTIMEZONE
BEGIN:VEVENT
DTSTART;TZID=America/New_York:20250604T180000
DTEND;TZID=America/New_York:20250604T220000
DTSTAMP:20260419T114056
CREATED:20250226T221230Z
LAST-MODIFIED:20250226T221230Z
UID:10002099-1749060000-1749074400@divinebarrel.com
SUMMARY:Crokinole Night with Queen City Crokinole
DESCRIPTION:Every first and third Wednesday is Crokinole Night with Queen City Crokinole! Come learn the best flickin’ game in town for free\, and join in our rolling Crokinole League to compete for big prizes!
URL:https://divinebarrel.com/upcoming-event/crokinole-night-with-queen-city-crokinole-2/2025-06-04/
LOCATION:Divine Barrel Brewing\, 3701 North Davidson Street\, Charlotte\, NC\, 28205\, United States
CATEGORIES:Family Friendly,Free Event,Game Night
ATTACH;FMTTYPE=image/png:https://divinebarrel.com/wp-content/uploads/2025/02/Crokinole-League-Night-TV-Slider.png
GEO:35.250218722682;-80.796329286936
X-APPLE-STRUCTURED-LOCATION;VALUE=URI;X-ADDRESS=Divine Barrel Brewing 3701 North Davidson Street Charlotte NC 28205 United States;X-APPLE-RADIUS=500;X-TITLE=3701 North Davidson Street:geo:-80.796329286936,35.250218722682
END:VEVENT
BEGIN:VEVENT
DTSTART;TZID=America/New_York:20250605T183000
DTEND;TZID=America/New_York:20250605T203000
DTSTAMP:20260419T114056
CREATED:20250120T213320Z
LAST-MODIFIED:20250120T213320Z
UID:10001847-1749148200-1749155400@divinebarrel.com
SUMMARY:DBB Run Club: 1\, 2 & 3 mile routes for everyone
DESCRIPTION:Every Thursday\, the DBB Run Club hits the streets of NoDa with 1\, 2 and 3 mile routes for every skill level. The crew launches at 6:30 sharp\, don’t be late!
URL:https://divinebarrel.com/upcoming-event/dbb-run-club-1-2-3-mile-routes-for-everyone/2025-06-05/
LOCATION:Divine Barrel Brewing\, 3701 North Davidson Street\, Charlotte\, NC\, 28205\, United States
CATEGORIES:Free Event,Run Club
ORGANIZER;CN="Divine Barrel Brewing":MAILTO:info@divinebarrel.com
GEO:35.250218722682;-80.796329286936
X-APPLE-STRUCTURED-LOCATION;VALUE=URI;X-ADDRESS=Divine Barrel Brewing 3701 North Davidson Street Charlotte NC 28205 United States;X-APPLE-RADIUS=500;X-TITLE=3701 North Davidson Street:geo:-80.796329286936,35.250218722682
END:VEVENT
BEGIN:VEVENT
DTSTART;TZID=America/New_York:20250611T180000
DTEND;TZID=America/New_York:20250611T220000
DTSTAMP:20260419T114057
CREATED:20250703T205553Z
LAST-MODIFIED:20250703T205554Z
UID:10001650-1749664800-1749679200@divinebarrel.com
SUMMARY:Potions & Pixels PLAYTEST Night
DESCRIPTION:✨ Join us at PLAYTEST\, a relaxed and welcoming event where you can showcase and playtest anything you’re working on! Whether it’s a prototype\, work-in-progress\, weird experiment\, or a release from your back catalog\, this is your space to get feedback\, share ideas\, and connect with fellow creators. ✨ \n👾 PLAYTEST isn’t just for game developers—it’s for all creatives in the game space! 🎨 Whether you’re a cosplayer\, content creator\, or any other creative working on game-related projects\, you’re welcome to show off your work and engage with the community. 🤝 \nIn addition to playtesting\, PLAYTEST is the perfect opportunity to dive into the latest POTIONS & PIXELS contest. 🏆 Whether you’re looking to form a team\, brainstorm ideas\, or get clarity on contest details\, you can connect with others and chat with a member of the @potionsandpixels crew. 💬 It’s all about collaboration\, creativity\, and community. 🎉 Come play\, discuss\, and create with us! 🎮 \nThis event is hosted in partnership with Game Designers of NC Charlotte & Game Makers Charlotte. 🤝 \nPlanning to show your work at the event? \nJust bring it along\, and we’ll provide you with table space. If your setup requires power\, please bring your own extension cords and surge protectors\, as each person will be limited to one outlet. \nDETAILS \n📍 LOCATION: @divinebarrelclt\n3701 N. Davidson St. – Suite #203\nCharlotte\, NC 28205 \n💵 COST: FREE \n🎨 Graphic Design: @dapdesignz
URL:https://divinebarrel.com/upcoming-event/potions-pixels-playtest-night-3-2/
LOCATION:Divine Barrel Brewing\, 3701 North Davidson Street\, Charlotte\, NC\, 28205\, United States
CATEGORIES:Free Event,Game Night,Networking & Social
ATTACH;FMTTYPE=image/png:https://divinebarrel.com/wp-content/uploads/2024/12/PP-Playtest-Static-TV-Slider.png
GEO:35.250218722682;-80.796329286936
X-APPLE-STRUCTURED-LOCATION;VALUE=URI;X-ADDRESS=DESCRIPTION:✨ Join us at PLAYTEST a relaxed and welcoming event where you can showcase and playtest anything you’re working on! Whether it’s a prototype work-in-progress weird experiment or a release from your back catalog this is your space to get feedback share ideas and connect with fellow creators. ✨ \n👾 PLAYTEST isn’t just for game developers—it’s for all creatives in the game space! 🎨 Whether you’re a cosplayer content creator or any other creative working on game-related projects you’re welcome to show off your work and engage with the community. 🤝 \nIn addition to playtesting PLAYTEST is the perfect opportunity to dive into the latest POTIONS & PIXELS contest. 🏆 Whether you’re looking to form a team brainstorm ideas or get clarity on contest details you can connect with others and chat with a member of the @potionsandpixels crew. 💬 It’s all about collaboration creativity and community. 🎉 Come play discuss and create with us! 🎮 \nThis event is hosted in partnership with Game Designers of NC Charlotte & Game Makers Charlotte. 🤝 \nPlanning to show your work at the event? \nJust bring it along and we’ll provide you with table space. If your setup requires power please bring your own extension cords and surge protectors as each person will be limited to one outlet. \nDETAILS \n📍  @divinebarrelclt\n3701 N. Davidson St. – Suite #203\nCharlotte NC 28205 \n💵 COST: FREE \n🎨 Graphic Design: @dapdesignz;X-APPLE-RADIUS=500;X-TITLE=3701 North Davidson Street:geo:-80.796329286936,35.250218722682
END:VEVENT
BEGIN:VEVENT
DTSTART;TZID=America/New_York:20250612T183000
DTEND;TZID=America/New_York:20250612T203000
DTSTAMP:20260419T114057
CREATED:20250120T213320Z
LAST-MODIFIED:20250120T213320Z
UID:10001848-1749753000-1749760200@divinebarrel.com
SUMMARY:DBB Run Club: 1\, 2 & 3 mile routes for everyone
DESCRIPTION:Every Thursday\, the DBB Run Club hits the streets of NoDa with 1\, 2 and 3 mile routes for every skill level. The crew launches at 6:30 sharp\, don’t be late!
URL:https://divinebarrel.com/upcoming-event/dbb-run-club-1-2-3-mile-routes-for-everyone/2025-06-12/
LOCATION:Divine Barrel Brewing\, 3701 North Davidson Street\, Charlotte\, NC\, 28205\, United States
CATEGORIES:Free Event,Run Club
ORGANIZER;CN="Divine Barrel Brewing":MAILTO:info@divinebarrel.com
GEO:35.250218722682;-80.796329286936
X-APPLE-STRUCTURED-LOCATION;VALUE=URI;X-ADDRESS=Divine Barrel Brewing 3701 North Davidson Street Charlotte NC 28205 United States;X-APPLE-RADIUS=500;X-TITLE=3701 North Davidson Street:geo:-80.796329286936,35.250218722682
END:VEVENT
BEGIN:VEVENT
DTSTART;TZID=America/New_York:20250618T180000
DTEND;TZID=America/New_York:20250618T220000
DTSTAMP:20260419T114057
CREATED:20250226T221322Z
LAST-MODIFIED:20250226T221322Z
UID:10002119-1750269600-1750284000@divinebarrel.com
SUMMARY:Crokinole Night with Queen City Crokinole
DESCRIPTION:Every first and third Wednesday is Crokinole Night with Queen City Crokinole! Come learn the best flickin’ game in town for free\, and join in our rolling Crokinole League to compete for big prizes!
URL:https://divinebarrel.com/upcoming-event/crokinole-night-with-queen-city-crokinole-3/2025-06-18/
LOCATION:Divine Barrel Brewing\, 3701 North Davidson Street\, Charlotte\, NC\, 28205\, United States
CATEGORIES:Family Friendly,Free Event,Game Night
ATTACH;FMTTYPE=image/png:https://divinebarrel.com/wp-content/uploads/2025/02/Crokinole-League-Night-TV-Slider.png
GEO:35.250218722682;-80.796329286936
X-APPLE-STRUCTURED-LOCATION;VALUE=URI;X-ADDRESS=Divine Barrel Brewing 3701 North Davidson Street Charlotte NC 28205 United States;X-APPLE-RADIUS=500;X-TITLE=3701 North Davidson Street:geo:-80.796329286936,35.250218722682
END:VEVENT
BEGIN:VEVENT
DTSTART;TZID=America/New_York:20250619T183000
DTEND;TZID=America/New_York:20250619T203000
DTSTAMP:20260419T114057
CREATED:20250120T213320Z
LAST-MODIFIED:20250120T213320Z
UID:10001849-1750357800-1750365000@divinebarrel.com
SUMMARY:DBB Run Club: 1\, 2 & 3 mile routes for everyone
DESCRIPTION:Every Thursday\, the DBB Run Club hits the streets of NoDa with 1\, 2 and 3 mile routes for every skill level. The crew launches at 6:30 sharp\, don’t be late!
URL:https://divinebarrel.com/upcoming-event/dbb-run-club-1-2-3-mile-routes-for-everyone/2025-06-19/
LOCATION:Divine Barrel Brewing\, 3701 North Davidson Street\, Charlotte\, NC\, 28205\, United States
CATEGORIES:Free Event,Run Club
ORGANIZER;CN="Divine Barrel Brewing":MAILTO:info@divinebarrel.com
GEO:35.250218722682;-80.796329286936
X-APPLE-STRUCTURED-LOCATION;VALUE=URI;X-ADDRESS=Divine Barrel Brewing 3701 North Davidson Street Charlotte NC 28205 United States;X-APPLE-RADIUS=500;X-TITLE=3701 North Davidson Street:geo:-80.796329286936,35.250218722682
END:VEVENT
BEGIN:VEVENT
DTSTART;TZID=America/New_York:20250625T180000
DTEND;TZID=America/New_York:20250625T220000
DTSTAMP:20260419T114057
CREATED:20241216T195153Z
LAST-MODIFIED:20241216T195242Z
UID:10001656-1750874400-1750888800@divinebarrel.com
SUMMARY:Potions & Pixels Game Industry Gathering
DESCRIPTION:Potions & Pixels Game Industry Gathering | December 2024 | RSVP\n\n\nWe are back with another Game Industry Gathering! This time\, we are at… Divine Barrel Brewing! Join us for a special game industry networking event full of games\, drinks and amazing people! Whether you are part of the game industry or aspiring to be\, POTIONS & PIXELS is inviting YOU to help grow the game industry in Charlotte! \nThis event is for: \n\n\nGame Developers (EVERYONE involved with ANY aspect of game development)\nInteractive Artists (Immersive Art)\nCosplayers\nContent Creators / Streamers / Journalists / Academia\nCompetitive Gamers (eSports & Speedrunners)\nGame Event Organizers\nGame Arts & Crafts Creators\nGame Peripheral Creators\nGame Business Owners & Employees\n\nDetails:\n\nTIME: 6 – 10 PM \nLOCATION: Divine Barrel Brewing \n\n3701 N. Davidson St. – Suite #203\nCharlotte\, NC 28205\n\nCOST: FREE
URL:https://divinebarrel.com/upcoming-event/potions-pixels-game-industry-gathering-6/2025-06-25/
LOCATION:Divine Barrel Brewing\, 3701 North Davidson Street\, Charlotte\, NC\, 28205\, United States
CATEGORIES:Free Event,Game Night,Networking & Social
ATTACH;FMTTYPE=image/png:https://divinebarrel.com/wp-content/uploads/2024/12/PP-Game-Industry-Gathering-Static-TV-Slider.png
GEO:35.250218722682;-80.796329286936
X-APPLE-STRUCTURED-LOCATION;VALUE=URI;X-ADDRESS=DESCRIPTION:Potions & Pixels Game Industry Gathering | December 2024 | RSVP\n\n\nWe are back with another Game Industry Gathering! This time we are at… Divine Barrel Brewing! Join us for a special game industry networking event full of games drinks and amazing people! Whether you are part of the game industry or aspiring to be POTIONS & PIXELS is inviting YOU to help grow the game industry in Charlotte! \nThis event is for: \n\n\nGame Developers (EVERYONE involved with ANY aspect of game development)\nInteractive Artists (Immersive Art)\nCosplayers\nContent Creators / Streamers / Journalists / Academia\nCompetitive Gamers (eSports & Speedrunners)\nGame Event Organizers\nGame Arts & Crafts Creators\nGame Peripheral Creators\nGame Business Owners & Employees\n\nDetails:\n\nTIME: 6 – 10 PM \n Divine Barrel Brewing \n\n3701 N. Davidson St. – Suite #203\nCharlotte NC 28205\n\nCOST: FREE;X-APPLE-RADIUS=500;X-TITLE=3701 North Davidson Street:geo:-80.796329286936,35.250218722682
END:VEVENT
BEGIN:VEVENT
DTSTART;TZID=America/New_York:20250626T183000
DTEND;TZID=America/New_York:20250626T203000
DTSTAMP:20260419T114057
CREATED:20250120T213320Z
LAST-MODIFIED:20250120T213320Z
UID:10001850-1750962600-1750969800@divinebarrel.com
SUMMARY:DBB Run Club: 1\, 2 & 3 mile routes for everyone
DESCRIPTION:Every Thursday\, the DBB Run Club hits the streets of NoDa with 1\, 2 and 3 mile routes for every skill level. The crew launches at 6:30 sharp\, don’t be late!
URL:https://divinebarrel.com/upcoming-event/dbb-run-club-1-2-3-mile-routes-for-everyone/2025-06-26/
LOCATION:Divine Barrel Brewing\, 3701 North Davidson Street\, Charlotte\, NC\, 28205\, United States
CATEGORIES:Free Event,Run Club
ORGANIZER;CN="Divine Barrel Brewing":MAILTO:info@divinebarrel.com
GEO:35.250218722682;-80.796329286936
X-APPLE-STRUCTURED-LOCATION;VALUE=URI;X-ADDRESS=Divine Barrel Brewing 3701 North Davidson Street Charlotte NC 28205 United States;X-APPLE-RADIUS=500;X-TITLE=3701 North Davidson Street:geo:-80.796329286936,35.250218722682
END:VEVENT
BEGIN:VEVENT
DTSTART;TZID=America/New_York:20250628T120000
DTEND;TZID=America/New_York:20250628T180000
DTSTAMP:20260419T114057
CREATED:20250512T203903Z
LAST-MODIFIED:20250512T204235Z
UID:10002368-1751112000-1751133600@divinebarrel.com
SUMMARY:A Moment of Divine Clarity III
DESCRIPTION:Divine Barrel Brewing’s celebration of clear beer\, “A Moment of Divine Clarity\,” returns for its third year on Saturday\, June 28th.
URL:https://divinebarrel.com/upcoming-event/divine-clarity-iii/
LOCATION:Divine Barrel Brewing\, 3701 North Davidson Street\, Charlotte\, NC\, 28205\, United States
CATEGORIES:Arts & Culture,Beer Release,Block party,Concert,Family Friendly,Free Event,Live Music
ATTACH;FMTTYPE=image/png:https://divinebarrel.com/wp-content/uploads/2025/05/062825-Divine-Clarity-III-TV-Slider.png
ORGANIZER;CN="Divine Barrel Brewing":MAILTO:info@divinebarrel.com
GEO:35.250218722682;-80.796329286936
X-APPLE-STRUCTURED-LOCATION;VALUE=URI;X-ADDRESS=Divine Barrel Brewing 3701 North Davidson Street Charlotte NC 28205 United States;X-APPLE-RADIUS=500;X-TITLE=3701 North Davidson Street:geo:-80.796329286936,35.250218722682
END:VEVENT
END:VCALENDAR