BEGIN:VCALENDAR
VERSION:2.0
PRODID:-//Divine Barrel Brewing - ECPv6.15.20//NONSGML v1.0//EN
CALSCALE:GREGORIAN
METHOD:PUBLISH
X-ORIGINAL-URL:https://divinebarrel.com
X-WR-CALDESC:Events for Divine Barrel Brewing
REFRESH-INTERVAL;VALUE=DURATION:PT1H
X-Robots-Tag:noindex
X-PUBLISHED-TTL:PT1H
BEGIN:VTIMEZONE
TZID:America/New_York
BEGIN:DAYLIGHT
TZOFFSETFROM:-0500
TZOFFSETTO:-0400
TZNAME:EDT
DTSTART:20240310T070000
END:DAYLIGHT
BEGIN:STANDARD
TZOFFSETFROM:-0400
TZOFFSETTO:-0500
TZNAME:EST
DTSTART:20241103T060000
END:STANDARD
BEGIN:DAYLIGHT
TZOFFSETFROM:-0500
TZOFFSETTO:-0400
TZNAME:EDT
DTSTART:20250309T070000
END:DAYLIGHT
BEGIN:STANDARD
TZOFFSETFROM:-0400
TZOFFSETTO:-0500
TZNAME:EST
DTSTART:20251102T060000
END:STANDARD
BEGIN:DAYLIGHT
TZOFFSETFROM:-0500
TZOFFSETTO:-0400
TZNAME:EDT
DTSTART:20260308T070000
END:DAYLIGHT
BEGIN:STANDARD
TZOFFSETFROM:-0400
TZOFFSETTO:-0500
TZNAME:EST
DTSTART:20261101T060000
END:STANDARD
END:VTIMEZONE
BEGIN:VEVENT
DTSTART;TZID=America/New_York:20250503T120000
DTEND;TZID=America/New_York:20250503T200000
DTSTAMP:20260419T153257
CREATED:20250421T180850Z
LAST-MODIFIED:20250421T180851Z
UID:10002160-1746273600-1746302400@divinebarrel.com
SUMMARY:Derby Day 2025
DESCRIPTION:Our annual Kentucky Derby watch party & celebration day returns for 2025! We’ll have the races on the screen all day up until the running of the 151st Kentucky Derby shortly after 7pm. \nCome through all day long for horseshoes & cornhole tournaments\, derby photo ops\, a fancy hat contest and of course – mint juleps! Our Derby Squares for charity is on the table again this year\, with all proceeds benefitting the Silent Partner fund managed by our friends at CARE veterinary hospital. Get your facinators and meet us in the Nodahood for Derby Day 2025!
URL:https://divinebarrel.com/upcoming-event/derby-day-2025/
LOCATION:Divine Barrel Brewing\, 3701 North Davidson Street\, Charlotte\, NC\, 28205\, United States
CATEGORIES:Family Friendly,Free Event
ATTACH;FMTTYPE=image/png:https://divinebarrel.com/wp-content/uploads/2025/04/050325-Derby-Day-2025-TV-Screens.png
ORGANIZER;CN="Divine Barrel Brewing":MAILTO:info@divinebarrel.com
GEO:35.250218722682;-80.796329286936
X-APPLE-STRUCTURED-LOCATION;VALUE=URI;X-ADDRESS=Divine Barrel Brewing 3701 North Davidson Street Charlotte NC 28205 United States;X-APPLE-RADIUS=500;X-TITLE=3701 North Davidson Street:geo:-80.796329286936,35.250218722682
END:VEVENT
END:VCALENDAR