BEGIN:VCALENDAR
VERSION:2.0
PRODID:-//Divine Barrel Brewing - ECPv6.15.20//NONSGML v1.0//EN
CALSCALE:GREGORIAN
METHOD:PUBLISH
X-ORIGINAL-URL:https://divinebarrel.com
X-WR-CALDESC:Events for Divine Barrel Brewing
REFRESH-INTERVAL;VALUE=DURATION:PT1H
X-Robots-Tag:noindex
X-PUBLISHED-TTL:PT1H
BEGIN:VTIMEZONE
TZID:America/New_York
BEGIN:DAYLIGHT
TZOFFSETFROM:-0500
TZOFFSETTO:-0400
TZNAME:EDT
DTSTART:20240310T070000
END:DAYLIGHT
BEGIN:STANDARD
TZOFFSETFROM:-0400
TZOFFSETTO:-0500
TZNAME:EST
DTSTART:20241103T060000
END:STANDARD
BEGIN:DAYLIGHT
TZOFFSETFROM:-0500
TZOFFSETTO:-0400
TZNAME:EDT
DTSTART:20250309T070000
END:DAYLIGHT
BEGIN:STANDARD
TZOFFSETFROM:-0400
TZOFFSETTO:-0500
TZNAME:EST
DTSTART:20251102T060000
END:STANDARD
BEGIN:DAYLIGHT
TZOFFSETFROM:-0500
TZOFFSETTO:-0400
TZNAME:EDT
DTSTART:20260308T070000
END:DAYLIGHT
BEGIN:STANDARD
TZOFFSETFROM:-0400
TZOFFSETTO:-0500
TZNAME:EST
DTSTART:20261101T060000
END:STANDARD
END:VTIMEZONE
BEGIN:VEVENT
DTSTART;TZID=America/New_York:20250704T120000
DTEND;TZID=America/New_York:20250704T170000
DTSTAMP:20260419T120318
CREATED:20250703T204907Z
LAST-MODIFIED:20250703T204907Z
UID:10002369-1751630400-1751648400@divinebarrel.com
SUMMARY:Nodahood In(ter)dependence Day Block Party
DESCRIPTION:The 4th of July is on a Friday this year\, so why don’t we take our annual cookout to the next level? This year\, we’re proud to host the Nodahood In(ter)dependence Day Block Party – a celebration of our community and our interconnectivity – along with our neighbors at @gwrnoda and @bosonnoda! \nStart your day off right with hot dogs\, burgers and grilled cheese at the DBB cookout – and bring cash/card donations as we’re raising funds for the Second Harvest Food Bank of the Metrolinas @shmetrolina. But that’s not all we’ve got – this year\, @carolinavibemerchants are rockin’ the block with live music outside from 1-4pm! If you haven’t heard this band borne out of our @cltiscreative partnership ONE Band\, you’re in for a treat of some serious rock\, blues & country jams. Bring a lawn chair! \nOur friends at @gwrnoda and @bosonnoda have events and special hours planned too – keep an eye on their social for more details. We’ll see you on the 4th as we celebrate community in the Nodahood!
URL:https://divinebarrel.com/upcoming-event/nodahood-interdependence-day-block-party/
LOCATION:Divine Barrel Brewing\, 3701 North Davidson Street\, Charlotte\, NC\, 28205\, United States
CATEGORIES:Block party,Concert,Family Friendly,Free Event,Fundraiser,Live Music
ATTACH;FMTTYPE=image/png:https://divinebarrel.com/wp-content/uploads/2025/07/070425-Nodahood-Interdependence-Day-TV-Slider.png
GEO:35.250218722682;-80.796329286936
X-APPLE-STRUCTURED-LOCATION;VALUE=URI;X-ADDRESS=Divine Barrel Brewing 3701 North Davidson Street Charlotte NC 28205 United States;X-APPLE-RADIUS=500;X-TITLE=3701 North Davidson Street:geo:-80.796329286936,35.250218722682
END:VEVENT
END:VCALENDAR