BEGIN:VCALENDAR
VERSION:2.0
PRODID:-//Divine Barrel Brewing - ECPv6.15.20//NONSGML v1.0//EN
CALSCALE:GREGORIAN
METHOD:PUBLISH
X-ORIGINAL-URL:https://divinebarrel.com
X-WR-CALDESC:Events for Divine Barrel Brewing
REFRESH-INTERVAL;VALUE=DURATION:PT1H
X-Robots-Tag:noindex
X-PUBLISHED-TTL:PT1H
BEGIN:VTIMEZONE
TZID:America/New_York
BEGIN:DAYLIGHT
TZOFFSETFROM:-0500
TZOFFSETTO:-0400
TZNAME:EDT
DTSTART:20240310T070000
END:DAYLIGHT
BEGIN:STANDARD
TZOFFSETFROM:-0400
TZOFFSETTO:-0500
TZNAME:EST
DTSTART:20241103T060000
END:STANDARD
BEGIN:DAYLIGHT
TZOFFSETFROM:-0500
TZOFFSETTO:-0400
TZNAME:EDT
DTSTART:20250309T070000
END:DAYLIGHT
BEGIN:STANDARD
TZOFFSETFROM:-0400
TZOFFSETTO:-0500
TZNAME:EST
DTSTART:20251102T060000
END:STANDARD
BEGIN:DAYLIGHT
TZOFFSETFROM:-0500
TZOFFSETTO:-0400
TZNAME:EDT
DTSTART:20260308T070000
END:DAYLIGHT
BEGIN:STANDARD
TZOFFSETFROM:-0400
TZOFFSETTO:-0500
TZNAME:EST
DTSTART:20261101T060000
END:STANDARD
END:VTIMEZONE
BEGIN:VEVENT
DTSTART;TZID=America/New_York:20251004T160000
DTEND;TZID=America/New_York:20251004T180000
DTSTAMP:20260419T081901
CREATED:20250918T185748Z
LAST-MODIFIED:20250918T185748Z
UID:10002423-1759593600-1759600800@divinebarrel.com
SUMMARY:Guitar Center Lessons Student Showcase
DESCRIPTION:This showcase for the Guitar Center Lessons – Pineville students is open to all\, come and see these new musicians perform for the first time!
URL:https://divinebarrel.com/upcoming-event/guitar-center-lessons-student-showcase/
LOCATION:Divine Barrel Brewing\, 3701 North Davidson Street\, Charlotte\, NC\, 28205\, United States
CATEGORIES:Arts & Culture,Concert,Family Friendly,Free Event,Live Music
ATTACH;FMTTYPE=image/png:https://divinebarrel.com/wp-content/uploads/2025/09/100425-Guitar-Center-Showcase-TV-Slider.png
GEO:35.250218722682;-80.796329286936
X-APPLE-STRUCTURED-LOCATION;VALUE=URI;X-ADDRESS=Divine Barrel Brewing 3701 North Davidson Street Charlotte NC 28205 United States;X-APPLE-RADIUS=500;X-TITLE=3701 North Davidson Street:geo:-80.796329286936,35.250218722682
END:VEVENT
END:VCALENDAR