BEGIN:VCALENDAR
VERSION:2.0
PRODID:-//Divine Barrel Brewing - ECPv6.15.20//NONSGML v1.0//EN
CALSCALE:GREGORIAN
METHOD:PUBLISH
X-WR-CALNAME:Divine Barrel Brewing
X-ORIGINAL-URL:https://divinebarrel.com
X-WR-CALDESC:Events for Divine Barrel Brewing
REFRESH-INTERVAL;VALUE=DURATION:PT1H
X-Robots-Tag:noindex
X-PUBLISHED-TTL:PT1H
BEGIN:VTIMEZONE
TZID:America/New_York
BEGIN:DAYLIGHT
TZOFFSETFROM:-0500
TZOFFSETTO:-0400
TZNAME:EDT
DTSTART:20240310T070000
END:DAYLIGHT
BEGIN:STANDARD
TZOFFSETFROM:-0400
TZOFFSETTO:-0500
TZNAME:EST
DTSTART:20241103T060000
END:STANDARD
BEGIN:DAYLIGHT
TZOFFSETFROM:-0500
TZOFFSETTO:-0400
TZNAME:EDT
DTSTART:20250309T070000
END:DAYLIGHT
BEGIN:STANDARD
TZOFFSETFROM:-0400
TZOFFSETTO:-0500
TZNAME:EST
DTSTART:20251102T060000
END:STANDARD
BEGIN:DAYLIGHT
TZOFFSETFROM:-0500
TZOFFSETTO:-0400
TZNAME:EDT
DTSTART:20260308T070000
END:DAYLIGHT
BEGIN:STANDARD
TZOFFSETFROM:-0400
TZOFFSETTO:-0500
TZNAME:EST
DTSTART:20261101T060000
END:STANDARD
END:VTIMEZONE
BEGIN:VEVENT
DTSTART;TZID=America/New_York:20251021T180000
DTEND;TZID=America/New_York:20251021T220000
DTSTAMP:20260419T094422
CREATED:20251013T192329Z
LAST-MODIFIED:20251013T192329Z
UID:10002445-1761069600-1761084000@divinebarrel.com
SUMMARY:ONE Band: EERIE-sistible Halloween Show
DESCRIPTION:ONE Band: the EERIE-sistible Halloween Show! Tuesday\, October 21st at 6pm – get ready to be POSSESSED by the power of BOO-tiful music! ONE Band is conjuring up something wickedly wonderful with “The Eerie-sistible Halloween Concert” — and resistance is absolutely FUTILE! \nFor our spine-tingling spectacular\, we’ve gathered a ghoulish collection of songs that’ll have you howling for more! From TV theme terror to devilish rock classics\, this setlist is guaranteed to raise the dead… and your spirits! \nThe ONE Band concept is simple: I post a short setlist. Anyone who wants to play those songs with me can sign up. And I mean ANYONE. Amateur musicians and professional players; newbies and veterans; hacks and savants. Any instrument; any skill level. The only qualifications are a desire to play music with others\, and a willingness to learn and perform these songs together on a stage. We do ONE rehearsal and ONE performance\, and then we disband forever. Our mantra is: “Connection\, Not Perfection.” It’s a quick\, musical rush that will re-spark your love of performing music. \nOoh\, hear that creepy witch’s cackle? That means it’s time to reveal the “EERIE-SISTIBLE HALLOWEEN SETLIST” that we’ll be learning and playing together: \n🎃 “The Munsters” (TV theme song)\n🎃 “Sympathy For The Devil” (The Rolling Stones)\n🎃 “The Tears of a Clown” (Smokey Robinson & The Miracles)\n🎃 “Spooky” (Dusty Springfield)\n🎃 “Little Talks” (Of Monsters and Men)\n🎃 “Evil Woman” (Electric Light Orchestra)\n🎃 “Time Warp” (The Rocky Horror Picture Show) \nAre you DYING to join us?
URL:https://divinebarrel.com/upcoming-event/one-band-eerie-sistible-halloween-show/
LOCATION:Divine Barrel Brewing\, 3701 North Davidson Street\, Charlotte\, NC\, 28205\, United States
CATEGORIES:Arts & Culture,Concert,Family Friendly,Free Event,Live Music
ATTACH;FMTTYPE=image/png:https://divinebarrel.com/wp-content/uploads/2025/10/102125-One-Band-TV-Slider.png
GEO:35.250218722682;-80.796329286936
X-APPLE-STRUCTURED-LOCATION;VALUE=URI;X-ADDRESS=Divine Barrel Brewing 3701 North Davidson Street Charlotte NC 28205 United States;X-APPLE-RADIUS=500;X-TITLE=3701 North Davidson Street:geo:-80.796329286936,35.250218722682
END:VEVENT
END:VCALENDAR