BEGIN:VCALENDAR
VERSION:2.0
PRODID:-//Divine Barrel Brewing - ECPv6.15.20//NONSGML v1.0//EN
CALSCALE:GREGORIAN
METHOD:PUBLISH
X-WR-CALNAME:Divine Barrel Brewing
X-ORIGINAL-URL:https://divinebarrel.com
X-WR-CALDESC:Events for Divine Barrel Brewing
REFRESH-INTERVAL;VALUE=DURATION:PT1H
X-Robots-Tag:noindex
X-PUBLISHED-TTL:PT1H
BEGIN:VTIMEZONE
TZID:America/New_York
BEGIN:DAYLIGHT
TZOFFSETFROM:-0500
TZOFFSETTO:-0400
TZNAME:EDT
DTSTART:20240310T070000
END:DAYLIGHT
BEGIN:STANDARD
TZOFFSETFROM:-0400
TZOFFSETTO:-0500
TZNAME:EST
DTSTART:20241103T060000
END:STANDARD
BEGIN:DAYLIGHT
TZOFFSETFROM:-0500
TZOFFSETTO:-0400
TZNAME:EDT
DTSTART:20250309T070000
END:DAYLIGHT
BEGIN:STANDARD
TZOFFSETFROM:-0400
TZOFFSETTO:-0500
TZNAME:EST
DTSTART:20251102T060000
END:STANDARD
BEGIN:DAYLIGHT
TZOFFSETFROM:-0500
TZOFFSETTO:-0400
TZNAME:EDT
DTSTART:20260308T070000
END:DAYLIGHT
BEGIN:STANDARD
TZOFFSETFROM:-0400
TZOFFSETTO:-0500
TZNAME:EST
DTSTART:20261101T060000
END:STANDARD
END:VTIMEZONE
BEGIN:VEVENT
DTSTART;TZID=America/New_York:20251115T120000
DTEND;TZID=America/New_York:20251115T170000
DTSTAMP:20260419T112412
CREATED:20251024T233404Z
LAST-MODIFIED:20251024T233404Z
UID:10002450-1763208000-1763226000@divinebarrel.com
SUMMARY:Nodahood Holiday Market
DESCRIPTION:The Annual Nodahood Holiday Market returns on Saturday\, November 15th from 12-5pm! Shop small with dozens of local vendors\, artists and crafters; eat great food from local food trucks\, and vibe to live music and DJs all day long! For this Nodahood Market\, we’re excited to welcome back our friends at High Vibes Tattoo for a fine line tattoo pop-up\, with signups starting at 11:30am. Noom Yai is rolling up the food truck with the best authentic Thai food in town\, and we’ve got live music all day with Maggie Lowe from 1-4pm and the Carolina Vibe Merchants from 6-9pm. It’s gonna be an awesome time\, bring the fam and get in the holiday vibe with Nodahood!
URL:https://divinebarrel.com/upcoming-event/nodahood-holiday-market/
LOCATION:Divine Barrel Brewing\, 3701 North Davidson Street\, Charlotte\, NC\, 28205\, United States
CATEGORIES:Arts & Culture,Block party,Concert,Family Friendly,Free Event,Live Music,NoDaHood Market
ATTACH;FMTTYPE=image/png:https://divinebarrel.com/wp-content/uploads/2025/10/111525-Nodahood-Holiday-TV-Slider.png
ORGANIZER;CN="Divine Barrel Brewing":MAILTO:info@divinebarrel.com
GEO:35.250218722682;-80.796329286936
X-APPLE-STRUCTURED-LOCATION;VALUE=URI;X-ADDRESS=Divine Barrel Brewing 3701 North Davidson Street Charlotte NC 28205 United States;X-APPLE-RADIUS=500;X-TITLE=3701 North Davidson Street:geo:-80.796329286936,35.250218722682
END:VEVENT
BEGIN:VEVENT
DTSTART;TZID=America/New_York:20251115T130000
DTEND;TZID=America/New_York:20251115T210000
DTSTAMP:20260419T112412
CREATED:20251107T172741Z
LAST-MODIFIED:20251107T172814Z
UID:10002494-1763211600-1763240400@divinebarrel.com
SUMMARY:LIVE MUSIC all day for Nodahood Holiday Market!
DESCRIPTION:We’ve got live music all day long for the Nodahood Holiday Market! Come through all day and catch FREE great music while you shop small this holiday season! \n1-4pm: Maggie Lowe \n6-9pm: Carolina Vibe Merchants
URL:https://divinebarrel.com/upcoming-event/live-music-all-day-for-nodahood-holiday-market/
LOCATION:Divine Barrel Brewing\, 3701 North Davidson Street\, Charlotte\, NC\, 28205\, United States
CATEGORIES:Arts & Culture,Free Event,Live Music,NoDaHood Market
ATTACH;FMTTYPE=image/png:https://divinebarrel.com/wp-content/uploads/2025/11/111525-Nodahood-Music-TV-Slider.png
ORGANIZER;CN="Divine Barrel Brewing":MAILTO:info@divinebarrel.com
GEO:35.250218722682;-80.796329286936
X-APPLE-STRUCTURED-LOCATION;VALUE=URI;X-ADDRESS=Divine Barrel Brewing 3701 North Davidson Street Charlotte NC 28205 United States;X-APPLE-RADIUS=500;X-TITLE=3701 North Davidson Street:geo:-80.796329286936,35.250218722682
END:VEVENT
END:VCALENDAR