BEGIN:VCALENDAR
VERSION:2.0
PRODID:-//Divine Barrel Brewing - ECPv6.15.20//NONSGML v1.0//EN
CALSCALE:GREGORIAN
METHOD:PUBLISH
X-ORIGINAL-URL:https://divinebarrel.com
X-WR-CALDESC:Events for Divine Barrel Brewing
REFRESH-INTERVAL;VALUE=DURATION:PT1H
X-Robots-Tag:noindex
X-PUBLISHED-TTL:PT1H
BEGIN:VTIMEZONE
TZID:America/New_York
BEGIN:DAYLIGHT
TZOFFSETFROM:-0500
TZOFFSETTO:-0400
TZNAME:EDT
DTSTART:20240310T070000
END:DAYLIGHT
BEGIN:STANDARD
TZOFFSETFROM:-0400
TZOFFSETTO:-0500
TZNAME:EST
DTSTART:20241103T060000
END:STANDARD
BEGIN:DAYLIGHT
TZOFFSETFROM:-0500
TZOFFSETTO:-0400
TZNAME:EDT
DTSTART:20250309T070000
END:DAYLIGHT
BEGIN:STANDARD
TZOFFSETFROM:-0400
TZOFFSETTO:-0500
TZNAME:EST
DTSTART:20251102T060000
END:STANDARD
BEGIN:DAYLIGHT
TZOFFSETFROM:-0500
TZOFFSETTO:-0400
TZNAME:EDT
DTSTART:20260308T070000
END:DAYLIGHT
BEGIN:STANDARD
TZOFFSETFROM:-0400
TZOFFSETTO:-0500
TZNAME:EST
DTSTART:20261101T060000
END:STANDARD
END:VTIMEZONE
BEGIN:VEVENT
DTSTART;TZID=America/New_York:20251130T120000
DTEND;TZID=America/New_York:20251130T160000
DTSTAMP:20260419T112557
CREATED:20251107T202903Z
LAST-MODIFIED:20251107T202904Z
UID:10002503-1764504000-1764518400@divinebarrel.com
SUMMARY:Divine Barrel’s Annual Free Ornament Painting Day
DESCRIPTION:Kick off the holidays right with Divine Barrel’s Annual Free Ornament Painting Day on Sunday\, November 30th! Starting at noon\, we’ll be offering free ornaments\, paint and brushes so you can create your own unusually lovely decorations. This is a party for all ages\, and please\, one ornament per person! This year\, we’re honored to host Santa too – he’ll be here starting at noon so you can get your lists directly to the man himself! \nAt 1pm\, we’re also going to be joined by Carolina Voices and the Carolina Beer Choir\, who will bring the festive cheer with holiday singalongs\, caroling\, games and tons more fun! \nWe also have the Double Dub’s Wings food truck rolling up\, so come hungry and ready to get in the holiday spirit with us!
URL:https://divinebarrel.com/upcoming-event/divine-barrels-annual-free-ornament-painting-day/
LOCATION:Divine Barrel Brewing\, 3701 North Davidson Street\, Charlotte\, NC\, 28205\, United States
CATEGORIES:Arts & Culture,Family Friendly,Free Event,Live Music
ATTACH;FMTTYPE=image/png:https://divinebarrel.com/wp-content/uploads/2025/11/113025-Holiday-Ornaments-TV-Slider.png
ORGANIZER;CN="Divine Barrel Brewing":MAILTO:info@divinebarrel.com
GEO:35.250218722682;-80.796329286936
X-APPLE-STRUCTURED-LOCATION;VALUE=URI;X-ADDRESS=Divine Barrel Brewing 3701 North Davidson Street Charlotte NC 28205 United States;X-APPLE-RADIUS=500;X-TITLE=3701 North Davidson Street:geo:-80.796329286936,35.250218722682
END:VEVENT
END:VCALENDAR