BEGIN:VCALENDAR
VERSION:2.0
PRODID:-//Divine Barrel Brewing - ECPv6.15.20//NONSGML v1.0//EN
CALSCALE:GREGORIAN
METHOD:PUBLISH
X-ORIGINAL-URL:https://divinebarrel.com
X-WR-CALDESC:Events for Divine Barrel Brewing
REFRESH-INTERVAL;VALUE=DURATION:PT1H
X-Robots-Tag:noindex
X-PUBLISHED-TTL:PT1H
BEGIN:VTIMEZONE
TZID:America/New_York
BEGIN:DAYLIGHT
TZOFFSETFROM:-0500
TZOFFSETTO:-0400
TZNAME:EDT
DTSTART:20250309T070000
END:DAYLIGHT
BEGIN:STANDARD
TZOFFSETFROM:-0400
TZOFFSETTO:-0500
TZNAME:EST
DTSTART:20251102T060000
END:STANDARD
BEGIN:DAYLIGHT
TZOFFSETFROM:-0500
TZOFFSETTO:-0400
TZNAME:EDT
DTSTART:20260308T070000
END:DAYLIGHT
BEGIN:STANDARD
TZOFFSETFROM:-0400
TZOFFSETTO:-0500
TZNAME:EST
DTSTART:20261101T060000
END:STANDARD
BEGIN:DAYLIGHT
TZOFFSETFROM:-0500
TZOFFSETTO:-0400
TZNAME:EDT
DTSTART:20270314T070000
END:DAYLIGHT
BEGIN:STANDARD
TZOFFSETFROM:-0400
TZOFFSETTO:-0500
TZNAME:EST
DTSTART:20271107T060000
END:STANDARD
END:VTIMEZONE
BEGIN:VEVENT
DTSTART;TZID=America/New_York:20260404T150000
DTEND;TZID=America/New_York:20260404T180000
DTSTAMP:20260419T081851
CREATED:20260327T150625Z
LAST-MODIFIED:20260327T150626Z
UID:10002774-1775314800-1775325600@divinebarrel.com
SUMMARY:Free live music: Jackson Harden
DESCRIPTION:Jackson Harden is a singer-songwriter from Utah and currently based in Charlotte\, North Carolina. Combining elements from traditional folk\, alt-country\, and chamber pop\, his music has a timeless quality that creates an airy\, open atmosphere tinged with imagery of the vast desert landscapes and towering mountains of the western United States. His gentle vocal style\, intimate songwriting\, and intricate guitar picking are often compared to the likes of  and . \nFrom the moment Harden picked up a guitar at age 8 to attaining his bachelor’s degree in music from Snow College in 2019\, his sights have always been set on writing songs and making records. In elementary school\, he regularly put together groups for school talent shows. As a teenager\, he formed the instrumental post-rock group  to explore experimental sounds and recording techniques\, featuring reverb drenched guitars and lush soundscapes. While in college\, Harden played guitar in indie rock/alternative group \, during which time the musician flourished in a space that honed his skills and nurtured his confidence in his own singing and songwriting. \nIn 2022\, Harden left his home state of Utah behind and moved across the country to North Carolina. Now showcasing his chops as a songwriter\, multi-instrumentalist\, singer\, and producer\, Harden ventures out on his own to explore a new\, profound sound with his debut EP . \nwww.jacksonharden.com
URL:https://divinebarrel.com/upcoming-event/free-live-music-jackson-harden/
LOCATION:Divine Barrel Brewing\, 3701 North Davidson Street\, Charlotte\, NC\, 28205\, United States
CATEGORIES:Arts & Culture,Family Friendly,Free Event,Live Music
ATTACH;FMTTYPE=image/png:https://divinebarrel.com/wp-content/uploads/2026/03/040426-Jackson-Harden-TV-Slider.png
GEO:35.250218722682;-80.796329286936
X-APPLE-STRUCTURED-LOCATION;VALUE=URI;X-ADDRESS=Divine Barrel Brewing 3701 North Davidson Street Charlotte NC 28205 United States;X-APPLE-RADIUS=500;X-TITLE=3701 North Davidson Street:geo:-80.796329286936,35.250218722682
END:VEVENT
END:VCALENDAR