BEGIN:VCALENDAR
VERSION:2.0
PRODID:-//Divine Barrel Brewing - ECPv6.15.20//NONSGML v1.0//EN
CALSCALE:GREGORIAN
METHOD:PUBLISH
X-WR-CALNAME:Divine Barrel Brewing
X-ORIGINAL-URL:https://divinebarrel.com
X-WR-CALDESC:Events for Divine Barrel Brewing
REFRESH-INTERVAL;VALUE=DURATION:PT1H
X-Robots-Tag:noindex
X-PUBLISHED-TTL:PT1H
BEGIN:VTIMEZONE
TZID:America/New_York
BEGIN:DAYLIGHT
TZOFFSETFROM:-0500
TZOFFSETTO:-0400
TZNAME:EDT
DTSTART:20240310T070000
END:DAYLIGHT
BEGIN:STANDARD
TZOFFSETFROM:-0400
TZOFFSETTO:-0500
TZNAME:EST
DTSTART:20241103T060000
END:STANDARD
BEGIN:DAYLIGHT
TZOFFSETFROM:-0500
TZOFFSETTO:-0400
TZNAME:EDT
DTSTART:20250309T070000
END:DAYLIGHT
BEGIN:STANDARD
TZOFFSETFROM:-0400
TZOFFSETTO:-0500
TZNAME:EST
DTSTART:20251102T060000
END:STANDARD
BEGIN:DAYLIGHT
TZOFFSETFROM:-0500
TZOFFSETTO:-0400
TZNAME:EDT
DTSTART:20260308T070000
END:DAYLIGHT
BEGIN:STANDARD
TZOFFSETFROM:-0400
TZOFFSETTO:-0500
TZNAME:EST
DTSTART:20261101T060000
END:STANDARD
END:VTIMEZONE
BEGIN:VEVENT
DTSTART;TZID=America/New_York:20250423T180000
DTEND;TZID=America/New_York:20250423T220000
DTSTAMP:20260420T235938
CREATED:20241216T195153Z
LAST-MODIFIED:20241216T195242Z
UID:10001654-1745431200-1745445600@divinebarrel.com
SUMMARY:Potions & Pixels Game Industry Gathering
DESCRIPTION:Potions & Pixels Game Industry Gathering | December 2024 | RSVP\n\n\nWe are back with another Game Industry Gathering! This time\, we are at… Divine Barrel Brewing! Join us for a special game industry networking event full of games\, drinks and amazing people! Whether you are part of the game industry or aspiring to be\, POTIONS & PIXELS is inviting YOU to help grow the game industry in Charlotte! \nThis event is for: \n\n\nGame Developers (EVERYONE involved with ANY aspect of game development)\nInteractive Artists (Immersive Art)\nCosplayers\nContent Creators / Streamers / Journalists / Academia\nCompetitive Gamers (eSports & Speedrunners)\nGame Event Organizers\nGame Arts & Crafts Creators\nGame Peripheral Creators\nGame Business Owners & Employees\n\nDetails:\n\nTIME: 6 – 10 PM \nLOCATION: Divine Barrel Brewing \n\n3701 N. Davidson St. – Suite #203\nCharlotte\, NC 28205\n\nCOST: FREE
URL:https://divinebarrel.com/upcoming-event/potions-pixels-game-industry-gathering-6/2025-04-23/
LOCATION:Divine Barrel Brewing\, 3701 North Davidson Street\, Charlotte\, NC\, 28205\, United States
CATEGORIES:Free Event,Game Night,Networking & Social
ATTACH;FMTTYPE=image/png:https://divinebarrel.com/wp-content/uploads/2024/12/PP-Game-Industry-Gathering-Static-TV-Slider.png
GEO:35.250218722682;-80.796329286936
X-APPLE-STRUCTURED-LOCATION;VALUE=URI;X-ADDRESS=DESCRIPTION:Potions & Pixels Game Industry Gathering | December 2024 | RSVP\n\n\nWe are back with another Game Industry Gathering! This time we are at… Divine Barrel Brewing! Join us for a special game industry networking event full of games drinks and amazing people! Whether you are part of the game industry or aspiring to be POTIONS & PIXELS is inviting YOU to help grow the game industry in Charlotte! \nThis event is for: \n\n\nGame Developers (EVERYONE involved with ANY aspect of game development)\nInteractive Artists (Immersive Art)\nCosplayers\nContent Creators / Streamers / Journalists / Academia\nCompetitive Gamers (eSports & Speedrunners)\nGame Event Organizers\nGame Arts & Crafts Creators\nGame Peripheral Creators\nGame Business Owners & Employees\n\nDetails:\n\nTIME: 6 – 10 PM \n Divine Barrel Brewing \n\n3701 N. Davidson St. – Suite #203\nCharlotte NC 28205\n\nCOST: FREE;X-APPLE-RADIUS=500;X-TITLE=3701 North Davidson Street:geo:-80.796329286936,35.250218722682
END:VEVENT
BEGIN:VEVENT
DTSTART;TZID=America/New_York:20250422T190000
DTEND;TZID=America/New_York:20250422T210000
DTSTAMP:20260420T235938
CREATED:20250329T232350Z
LAST-MODIFIED:20250329T232350Z
UID:10002151-1745348400-1745355600@divinebarrel.com
SUMMARY:Pour Your Own Epoxy workshop
DESCRIPTION:Join us for a fun\, informative and hands-on workshop where you’ll craft your very own epoxy river charcuterie board or lazy susan! \nOur boards feature premium black walnut and other fine hardwoods\, accented with epoxy in colors of your choice. You can select up to two epoxy colors when you arrive. \nDate: April 22nd \nLocation: Divine Barrel Brewing\, Charlotte\, NC \nTime: 7:00pm – 9:00pm \nAddress: 3701 N Davidson St #203\, Charlotte\, NC 28205 \nEach ticket includes one drink ticket \nAfter the class\, your project will undergo a meticulous finishing process\, which typically takes about 5 weeks. Please note that epoxy projects must sit and fully cure for approximately a week before we begin the finishing process. The overall timeline is highly dependent on class size and shipping processes. \nOnce perfected\, we’ll ship it to you promptly\, ensuring your creation arrives in pristine condition. \nPlease note: All ticket sales are final. However\, if you’re unable to attend\, feel free to send someone in your place. Additionally\, each attendee aged 12 and above must have a ticket\, while couples tickets offer an opportunity for two individuals to collaborate on a single project
URL:https://divinebarrel.com/upcoming-event/pour-your-own-epoxy-workshop/
LOCATION:Divine Barrel Brewing\, 3701 North Davidson Street\, Charlotte\, NC\, 28205\, United States
CATEGORIES:Arts & Culture,Ticketed Event
ATTACH;FMTTYPE=image/png:https://divinebarrel.com/wp-content/uploads/2025/03/042225-Pour-Your-Own-Epoxy-TV-Slider.png
GEO:35.250218722682;-80.796329286936
X-APPLE-STRUCTURED-LOCATION;VALUE=URI;X-ADDRESS=Divine Barrel Brewing 3701 North Davidson Street Charlotte NC 28205 United States;X-APPLE-RADIUS=500;X-TITLE=3701 North Davidson Street:geo:-80.796329286936,35.250218722682
END:VEVENT
BEGIN:VEVENT
DTSTART;TZID=America/New_York:20250422T170000
DTEND;TZID=America/New_York:20250422T210000
DTSTAMP:20260420T235938
CREATED:20241231T203314Z
LAST-MODIFIED:20241231T203314Z
UID:10001703-1745341200-1745355600@divinebarrel.com
SUMMARY:Bring Your Own Vinyl night
DESCRIPTION:Bring Your Own Vinyl every Tuesday night at Divine Barrel! Listen\, talk and share your favorite records\, dig through our house crate\, or check out new vinyl from our Premium Sound pop-up shop!
URL:https://divinebarrel.com/upcoming-event/bring-your-own-vinyl-night-2/2025-04-22/
LOCATION:Divine Barrel Brewing\, 3701 North Davidson Street\, Charlotte\, NC\, 28205\, United States
CATEGORIES:Arts & Culture
ORGANIZER;CN="Divine Barrel Brewing":MAILTO:info@divinebarrel.com
GEO:35.250218722682;-80.796329286936
X-APPLE-STRUCTURED-LOCATION;VALUE=URI;X-ADDRESS=Divine Barrel Brewing 3701 North Davidson Street Charlotte NC 28205 United States;X-APPLE-RADIUS=500;X-TITLE=3701 North Davidson Street:geo:-80.796329286936,35.250218722682
END:VEVENT
BEGIN:VEVENT
DTSTART;TZID=America/New_York:20250421T190000
DTEND;TZID=America/New_York:20250421T220000
DTSTAMP:20260420T235938
CREATED:20240311T175824Z
LAST-MODIFIED:20250115T165934Z
UID:10001772-1745262000-1745272800@divinebarrel.com
SUMMARY:Mindless Minutia Trivia with Dave Chase
DESCRIPTION:Mindless Minutia Trivia with Dave Chase\nEvery Monday is trivia night at Divine Barrel! Assemble your team for four rounds of trivia with host Dave Chase – the top three teams win brewery prizes! Expect rounds of general knowledge\, wordplay\, themes and more brain-burners that will get everyone on the team thinking. The deal gets even sweeter when you throw $10 flights into the mix – so grab your table\, pens and brainpower for weekly trivia at DBB!
URL:https://divinebarrel.com/upcoming-event/mindless-minutia-trivia-with-dave-chase/2025-04-21/
LOCATION:Divine Barrel Brewing\, 3701 North Davidson Street\, Charlotte\, NC\, 28205\, United States
CATEGORIES:Arts & Culture,Family Friendly,Game Night,Trivia Night
ATTACH;FMTTYPE=image/png:https://divinebarrel.com/wp-content/uploads/2024/03/monday-TV-vid.png
ORGANIZER;CN="Divine Barrel Brewing":MAILTO:info@divinebarrel.com
GEO:35.250218722682;-80.796329286936
X-APPLE-STRUCTURED-LOCATION;VALUE=URI;X-ADDRESS=Divine Barrel Brewing 3701 North Davidson Street Charlotte NC 28205 United States;X-APPLE-RADIUS=500;X-TITLE=3701 North Davidson Street:geo:-80.796329286936,35.250218722682
END:VEVENT
BEGIN:VEVENT
DTSTART;VALUE=DATE:20250420
DTEND;VALUE=DATE:20250421
DTSTAMP:20260420T235938
CREATED:20250324T192208Z
LAST-MODIFIED:20250324T192208Z
UID:10002148-1745107200-1745193599@divinebarrel.com
SUMMARY:CLOSED for Easter Sunday
DESCRIPTION:We are closed on Sunday\, April 20th for Easter Sunday. We’ll see you again tomorrow!
URL:https://divinebarrel.com/upcoming-event/closed-for-easter-sunday/
LOCATION:NC
END:VEVENT
END:VCALENDAR