BEGIN:VCALENDAR
VERSION:2.0
PRODID:-//Divine Barrel Brewing - ECPv6.15.20//NONSGML v1.0//EN
CALSCALE:GREGORIAN
METHOD:PUBLISH
X-ORIGINAL-URL:https://divinebarrel.com
X-WR-CALDESC:Events for Divine Barrel Brewing
REFRESH-INTERVAL;VALUE=DURATION:PT1H
X-Robots-Tag:noindex
X-PUBLISHED-TTL:PT1H
BEGIN:VTIMEZONE
TZID:America/New_York
BEGIN:DAYLIGHT
TZOFFSETFROM:-0500
TZOFFSETTO:-0400
TZNAME:EDT
DTSTART:20240310T070000
END:DAYLIGHT
BEGIN:STANDARD
TZOFFSETFROM:-0400
TZOFFSETTO:-0500
TZNAME:EST
DTSTART:20241103T060000
END:STANDARD
BEGIN:DAYLIGHT
TZOFFSETFROM:-0500
TZOFFSETTO:-0400
TZNAME:EDT
DTSTART:20250309T070000
END:DAYLIGHT
BEGIN:STANDARD
TZOFFSETFROM:-0400
TZOFFSETTO:-0500
TZNAME:EST
DTSTART:20251102T060000
END:STANDARD
BEGIN:DAYLIGHT
TZOFFSETFROM:-0500
TZOFFSETTO:-0400
TZNAME:EDT
DTSTART:20260308T070000
END:DAYLIGHT
BEGIN:STANDARD
TZOFFSETFROM:-0400
TZOFFSETTO:-0500
TZNAME:EST
DTSTART:20261101T060000
END:STANDARD
END:VTIMEZONE
BEGIN:VEVENT
DTSTART;TZID=America/New_York:20250901T190000
DTEND;TZID=America/New_York:20250901T220000
DTSTAMP:20260419T145639
CREATED:20240311T175824Z
LAST-MODIFIED:20250115T165934Z
UID:10001791-1756753200-1756764000@divinebarrel.com
SUMMARY:Mindless Minutia Trivia with Dave Chase
DESCRIPTION:Mindless Minutia Trivia with Dave Chase\nEvery Monday is trivia night at Divine Barrel! Assemble your team for four rounds of trivia with host Dave Chase – the top three teams win brewery prizes! Expect rounds of general knowledge\, wordplay\, themes and more brain-burners that will get everyone on the team thinking. The deal gets even sweeter when you throw $10 flights into the mix – so grab your table\, pens and brainpower for weekly trivia at DBB!
URL:https://divinebarrel.com/upcoming-event/mindless-minutia-trivia-with-dave-chase/2025-09-01/
LOCATION:Divine Barrel Brewing\, 3701 North Davidson Street\, Charlotte\, NC\, 28205\, United States
CATEGORIES:Arts & Culture,Family Friendly,Game Night,Trivia Night
ATTACH;FMTTYPE=image/png:https://divinebarrel.com/wp-content/uploads/2024/03/monday-TV-vid.png
ORGANIZER;CN="Divine Barrel Brewing":MAILTO:info@divinebarrel.com
GEO:35.250218722682;-80.796329286936
X-APPLE-STRUCTURED-LOCATION;VALUE=URI;X-ADDRESS=Divine Barrel Brewing 3701 North Davidson Street Charlotte NC 28205 United States;X-APPLE-RADIUS=500;X-TITLE=3701 North Davidson Street:geo:-80.796329286936,35.250218722682
END:VEVENT
BEGIN:VEVENT
DTSTART;TZID=America/New_York:20250902T180000
DTEND;TZID=America/New_York:20250902T220000
DTSTAMP:20260419T145639
CREATED:20250918T183543Z
LAST-MODIFIED:20250918T183544Z
UID:10001725-1756836000-1756850400@divinebarrel.com
SUMMARY:Bring Your Own Vinyl night
DESCRIPTION:Bring Your Own Vinyl the first and third Tuesday night every month at Divine Barrel! Listen\, talk and share your favorite records\, dig through our house crate\, or check out new vinyl from our Premium Sound pop-up shop!
URL:https://divinebarrel.com/upcoming-event/bring-your-own-vinyl-night-2-2/2025-09-02/
LOCATION:Divine Barrel Brewing\, 3701 North Davidson Street\, Charlotte\, NC\, 28205\, United States
CATEGORIES:Arts & Culture
ORGANIZER;CN="Divine Barrel Brewing":MAILTO:info@divinebarrel.com
GEO:35.250218722682;-80.796329286936
X-APPLE-STRUCTURED-LOCATION;VALUE=URI;X-ADDRESS=Divine Barrel Brewing 3701 North Davidson Street Charlotte NC 28205 United States;X-APPLE-RADIUS=500;X-TITLE=3701 North Davidson Street:geo:-80.796329286936,35.250218722682
END:VEVENT
BEGIN:VEVENT
DTSTART;TZID=America/New_York:20250908T190000
DTEND;TZID=America/New_York:20250908T220000
DTSTAMP:20260419T145639
CREATED:20240311T175824Z
LAST-MODIFIED:20250115T165934Z
UID:10001792-1757358000-1757368800@divinebarrel.com
SUMMARY:Mindless Minutia Trivia with Dave Chase
DESCRIPTION:Mindless Minutia Trivia with Dave Chase\nEvery Monday is trivia night at Divine Barrel! Assemble your team for four rounds of trivia with host Dave Chase – the top three teams win brewery prizes! Expect rounds of general knowledge\, wordplay\, themes and more brain-burners that will get everyone on the team thinking. The deal gets even sweeter when you throw $10 flights into the mix – so grab your table\, pens and brainpower for weekly trivia at DBB!
URL:https://divinebarrel.com/upcoming-event/mindless-minutia-trivia-with-dave-chase/2025-09-08/
LOCATION:Divine Barrel Brewing\, 3701 North Davidson Street\, Charlotte\, NC\, 28205\, United States
CATEGORIES:Arts & Culture,Family Friendly,Game Night,Trivia Night
ATTACH;FMTTYPE=image/png:https://divinebarrel.com/wp-content/uploads/2024/03/monday-TV-vid.png
ORGANIZER;CN="Divine Barrel Brewing":MAILTO:info@divinebarrel.com
GEO:35.250218722682;-80.796329286936
X-APPLE-STRUCTURED-LOCATION;VALUE=URI;X-ADDRESS=Divine Barrel Brewing 3701 North Davidson Street Charlotte NC 28205 United States;X-APPLE-RADIUS=500;X-TITLE=3701 North Davidson Street:geo:-80.796329286936,35.250218722682
END:VEVENT
BEGIN:VEVENT
DTSTART;TZID=America/New_York:20250915T190000
DTEND;TZID=America/New_York:20250915T220000
DTSTAMP:20260419T145639
CREATED:20240311T175824Z
LAST-MODIFIED:20250115T165934Z
UID:10001793-1757962800-1757973600@divinebarrel.com
SUMMARY:Mindless Minutia Trivia with Dave Chase
DESCRIPTION:Mindless Minutia Trivia with Dave Chase\nEvery Monday is trivia night at Divine Barrel! Assemble your team for four rounds of trivia with host Dave Chase – the top three teams win brewery prizes! Expect rounds of general knowledge\, wordplay\, themes and more brain-burners that will get everyone on the team thinking. The deal gets even sweeter when you throw $10 flights into the mix – so grab your table\, pens and brainpower for weekly trivia at DBB!
URL:https://divinebarrel.com/upcoming-event/mindless-minutia-trivia-with-dave-chase/2025-09-15/
LOCATION:Divine Barrel Brewing\, 3701 North Davidson Street\, Charlotte\, NC\, 28205\, United States
CATEGORIES:Arts & Culture,Family Friendly,Game Night,Trivia Night
ATTACH;FMTTYPE=image/png:https://divinebarrel.com/wp-content/uploads/2024/03/monday-TV-vid.png
ORGANIZER;CN="Divine Barrel Brewing":MAILTO:info@divinebarrel.com
GEO:35.250218722682;-80.796329286936
X-APPLE-STRUCTURED-LOCATION;VALUE=URI;X-ADDRESS=Divine Barrel Brewing 3701 North Davidson Street Charlotte NC 28205 United States;X-APPLE-RADIUS=500;X-TITLE=3701 North Davidson Street:geo:-80.796329286936,35.250218722682
END:VEVENT
BEGIN:VEVENT
DTSTART;TZID=America/New_York:20250916T180000
DTEND;TZID=America/New_York:20250916T220000
DTSTAMP:20260419T145639
CREATED:20250918T183838Z
LAST-MODIFIED:20250918T183838Z
UID:10002415-1758045600-1758060000@divinebarrel.com
SUMMARY:Bring Your Own Vinyl night
DESCRIPTION:Bring Your Own Vinyl the first and third Tuesday night every month at Divine Barrel! Listen\, talk and share your favorite records\, dig through our house crate\, or check out new vinyl from our Premium Sound pop-up shop!
URL:https://divinebarrel.com/upcoming-event/bring-your-own-vinyl-night-3/2025-09-16/
LOCATION:Divine Barrel Brewing\, 3701 North Davidson Street\, Charlotte\, NC\, 28205\, United States
CATEGORIES:Arts & Culture
ORGANIZER;CN="Divine Barrel Brewing":MAILTO:info@divinebarrel.com
GEO:35.250218722682;-80.796329286936
X-APPLE-STRUCTURED-LOCATION;VALUE=URI;X-ADDRESS=Divine Barrel Brewing 3701 North Davidson Street Charlotte NC 28205 United States;X-APPLE-RADIUS=500;X-TITLE=3701 North Davidson Street:geo:-80.796329286936,35.250218722682
END:VEVENT
BEGIN:VEVENT
DTSTART;TZID=America/New_York:20250922T190000
DTEND;TZID=America/New_York:20250922T220000
DTSTAMP:20260419T145639
CREATED:20240311T175824Z
LAST-MODIFIED:20250115T165934Z
UID:10001794-1758567600-1758578400@divinebarrel.com
SUMMARY:Mindless Minutia Trivia with Dave Chase
DESCRIPTION:Mindless Minutia Trivia with Dave Chase\nEvery Monday is trivia night at Divine Barrel! Assemble your team for four rounds of trivia with host Dave Chase – the top three teams win brewery prizes! Expect rounds of general knowledge\, wordplay\, themes and more brain-burners that will get everyone on the team thinking. The deal gets even sweeter when you throw $10 flights into the mix – so grab your table\, pens and brainpower for weekly trivia at DBB!
URL:https://divinebarrel.com/upcoming-event/mindless-minutia-trivia-with-dave-chase/2025-09-22/
LOCATION:Divine Barrel Brewing\, 3701 North Davidson Street\, Charlotte\, NC\, 28205\, United States
CATEGORIES:Arts & Culture,Family Friendly,Game Night,Trivia Night
ATTACH;FMTTYPE=image/png:https://divinebarrel.com/wp-content/uploads/2024/03/monday-TV-vid.png
ORGANIZER;CN="Divine Barrel Brewing":MAILTO:info@divinebarrel.com
GEO:35.250218722682;-80.796329286936
X-APPLE-STRUCTURED-LOCATION;VALUE=URI;X-ADDRESS=Divine Barrel Brewing 3701 North Davidson Street Charlotte NC 28205 United States;X-APPLE-RADIUS=500;X-TITLE=3701 North Davidson Street:geo:-80.796329286936,35.250218722682
END:VEVENT
BEGIN:VEVENT
DTSTART;TZID=America/New_York:20250929T190000
DTEND;TZID=America/New_York:20250929T220000
DTSTAMP:20260419T145639
CREATED:20240311T175824Z
LAST-MODIFIED:20250115T165934Z
UID:10001795-1759172400-1759183200@divinebarrel.com
SUMMARY:Mindless Minutia Trivia with Dave Chase
DESCRIPTION:Mindless Minutia Trivia with Dave Chase\nEvery Monday is trivia night at Divine Barrel! Assemble your team for four rounds of trivia with host Dave Chase – the top three teams win brewery prizes! Expect rounds of general knowledge\, wordplay\, themes and more brain-burners that will get everyone on the team thinking. The deal gets even sweeter when you throw $10 flights into the mix – so grab your table\, pens and brainpower for weekly trivia at DBB!
URL:https://divinebarrel.com/upcoming-event/mindless-minutia-trivia-with-dave-chase/2025-09-29/
LOCATION:Divine Barrel Brewing\, 3701 North Davidson Street\, Charlotte\, NC\, 28205\, United States
CATEGORIES:Arts & Culture,Family Friendly,Game Night,Trivia Night
ATTACH;FMTTYPE=image/png:https://divinebarrel.com/wp-content/uploads/2024/03/monday-TV-vid.png
ORGANIZER;CN="Divine Barrel Brewing":MAILTO:info@divinebarrel.com
GEO:35.250218722682;-80.796329286936
X-APPLE-STRUCTURED-LOCATION;VALUE=URI;X-ADDRESS=Divine Barrel Brewing 3701 North Davidson Street Charlotte NC 28205 United States;X-APPLE-RADIUS=500;X-TITLE=3701 North Davidson Street:geo:-80.796329286936,35.250218722682
END:VEVENT
END:VCALENDAR