BEGIN:VCALENDAR
VERSION:2.0
PRODID:-//Divine Barrel Brewing - ECPv6.15.20//NONSGML v1.0//EN
CALSCALE:GREGORIAN
METHOD:PUBLISH
X-WR-CALNAME:Divine Barrel Brewing
X-ORIGINAL-URL:https://divinebarrel.com
X-WR-CALDESC:Events for Divine Barrel Brewing
REFRESH-INTERVAL;VALUE=DURATION:PT1H
X-Robots-Tag:noindex
X-PUBLISHED-TTL:PT1H
BEGIN:VTIMEZONE
TZID:America/New_York
BEGIN:DAYLIGHT
TZOFFSETFROM:-0500
TZOFFSETTO:-0400
TZNAME:EDT
DTSTART:20240310T070000
END:DAYLIGHT
BEGIN:STANDARD
TZOFFSETFROM:-0400
TZOFFSETTO:-0500
TZNAME:EST
DTSTART:20241103T060000
END:STANDARD
BEGIN:DAYLIGHT
TZOFFSETFROM:-0500
TZOFFSETTO:-0400
TZNAME:EDT
DTSTART:20250309T070000
END:DAYLIGHT
BEGIN:STANDARD
TZOFFSETFROM:-0400
TZOFFSETTO:-0500
TZNAME:EST
DTSTART:20251102T060000
END:STANDARD
BEGIN:DAYLIGHT
TZOFFSETFROM:-0500
TZOFFSETTO:-0400
TZNAME:EDT
DTSTART:20260308T070000
END:DAYLIGHT
BEGIN:STANDARD
TZOFFSETFROM:-0400
TZOFFSETTO:-0500
TZNAME:EST
DTSTART:20261101T060000
END:STANDARD
END:VTIMEZONE
BEGIN:VEVENT
DTSTART;TZID=America/New_York:20251201T190000
DTEND;TZID=America/New_York:20251201T220000
DTSTAMP:20260419T133818
CREATED:20240311T175824Z
LAST-MODIFIED:20250115T165934Z
UID:10001804-1764615600-1764626400@divinebarrel.com
SUMMARY:Mindless Minutia Trivia with Dave Chase
DESCRIPTION:Mindless Minutia Trivia with Dave Chase\nEvery Monday is trivia night at Divine Barrel! Assemble your team for four rounds of trivia with host Dave Chase – the top three teams win brewery prizes! Expect rounds of general knowledge\, wordplay\, themes and more brain-burners that will get everyone on the team thinking. The deal gets even sweeter when you throw $10 flights into the mix – so grab your table\, pens and brainpower for weekly trivia at DBB!
URL:https://divinebarrel.com/upcoming-event/mindless-minutia-trivia-with-dave-chase/2025-12-01/
LOCATION:Divine Barrel Brewing\, 3701 North Davidson Street\, Charlotte\, NC\, 28205\, United States
CATEGORIES:Arts & Culture,Family Friendly,Game Night,Trivia Night
ATTACH;FMTTYPE=image/png:https://divinebarrel.com/wp-content/uploads/2024/03/monday-TV-vid.png
ORGANIZER;CN="Divine Barrel Brewing":MAILTO:info@divinebarrel.com
GEO:35.250218722682;-80.796329286936
X-APPLE-STRUCTURED-LOCATION;VALUE=URI;X-ADDRESS=Divine Barrel Brewing 3701 North Davidson Street Charlotte NC 28205 United States;X-APPLE-RADIUS=500;X-TITLE=3701 North Davidson Street:geo:-80.796329286936,35.250218722682
END:VEVENT
BEGIN:VEVENT
DTSTART;TZID=America/New_York:20251202T180000
DTEND;TZID=America/New_York:20251202T220000
DTSTAMP:20260419T133818
CREATED:20250918T183543Z
LAST-MODIFIED:20250918T183544Z
UID:10002406-1764698400-1764712800@divinebarrel.com
SUMMARY:Bring Your Own Vinyl night
DESCRIPTION:Bring Your Own Vinyl the first and third Tuesday night every month at Divine Barrel! Listen\, talk and share your favorite records\, dig through our house crate\, or check out new vinyl from our Premium Sound pop-up shop!
URL:https://divinebarrel.com/upcoming-event/bring-your-own-vinyl-night-2-2/2025-12-02/
LOCATION:Divine Barrel Brewing\, 3701 North Davidson Street\, Charlotte\, NC\, 28205\, United States
CATEGORIES:Arts & Culture
ORGANIZER;CN="Divine Barrel Brewing":MAILTO:info@divinebarrel.com
GEO:35.250218722682;-80.796329286936
X-APPLE-STRUCTURED-LOCATION;VALUE=URI;X-ADDRESS=Divine Barrel Brewing 3701 North Davidson Street Charlotte NC 28205 United States;X-APPLE-RADIUS=500;X-TITLE=3701 North Davidson Street:geo:-80.796329286936,35.250218722682
END:VEVENT
BEGIN:VEVENT
DTSTART;TZID=America/New_York:20251208T190000
DTEND;TZID=America/New_York:20251208T220000
DTSTAMP:20260419T133818
CREATED:20240311T175824Z
LAST-MODIFIED:20250115T165934Z
UID:10001805-1765220400-1765231200@divinebarrel.com
SUMMARY:Mindless Minutia Trivia with Dave Chase
DESCRIPTION:Mindless Minutia Trivia with Dave Chase\nEvery Monday is trivia night at Divine Barrel! Assemble your team for four rounds of trivia with host Dave Chase – the top three teams win brewery prizes! Expect rounds of general knowledge\, wordplay\, themes and more brain-burners that will get everyone on the team thinking. The deal gets even sweeter when you throw $10 flights into the mix – so grab your table\, pens and brainpower for weekly trivia at DBB!
URL:https://divinebarrel.com/upcoming-event/mindless-minutia-trivia-with-dave-chase/2025-12-08/
LOCATION:Divine Barrel Brewing\, 3701 North Davidson Street\, Charlotte\, NC\, 28205\, United States
CATEGORIES:Arts & Culture,Family Friendly,Game Night,Trivia Night
ATTACH;FMTTYPE=image/png:https://divinebarrel.com/wp-content/uploads/2024/03/monday-TV-vid.png
ORGANIZER;CN="Divine Barrel Brewing":MAILTO:info@divinebarrel.com
GEO:35.250218722682;-80.796329286936
X-APPLE-STRUCTURED-LOCATION;VALUE=URI;X-ADDRESS=Divine Barrel Brewing 3701 North Davidson Street Charlotte NC 28205 United States;X-APPLE-RADIUS=500;X-TITLE=3701 North Davidson Street:geo:-80.796329286936,35.250218722682
END:VEVENT
BEGIN:VEVENT
DTSTART;TZID=America/New_York:20251215T190000
DTEND;TZID=America/New_York:20251215T220000
DTSTAMP:20260419T133818
CREATED:20240311T175824Z
LAST-MODIFIED:20250115T165934Z
UID:10001806-1765825200-1765836000@divinebarrel.com
SUMMARY:Mindless Minutia Trivia with Dave Chase
DESCRIPTION:Mindless Minutia Trivia with Dave Chase\nEvery Monday is trivia night at Divine Barrel! Assemble your team for four rounds of trivia with host Dave Chase – the top three teams win brewery prizes! Expect rounds of general knowledge\, wordplay\, themes and more brain-burners that will get everyone on the team thinking. The deal gets even sweeter when you throw $10 flights into the mix – so grab your table\, pens and brainpower for weekly trivia at DBB!
URL:https://divinebarrel.com/upcoming-event/mindless-minutia-trivia-with-dave-chase/2025-12-15/
LOCATION:Divine Barrel Brewing\, 3701 North Davidson Street\, Charlotte\, NC\, 28205\, United States
CATEGORIES:Arts & Culture,Family Friendly,Game Night,Trivia Night
ATTACH;FMTTYPE=image/png:https://divinebarrel.com/wp-content/uploads/2024/03/monday-TV-vid.png
ORGANIZER;CN="Divine Barrel Brewing":MAILTO:info@divinebarrel.com
GEO:35.250218722682;-80.796329286936
X-APPLE-STRUCTURED-LOCATION;VALUE=URI;X-ADDRESS=Divine Barrel Brewing 3701 North Davidson Street Charlotte NC 28205 United States;X-APPLE-RADIUS=500;X-TITLE=3701 North Davidson Street:geo:-80.796329286936,35.250218722682
END:VEVENT
BEGIN:VEVENT
DTSTART;TZID=America/New_York:20251216T180000
DTEND;TZID=America/New_York:20251216T220000
DTSTAMP:20260419T133818
CREATED:20250918T183838Z
LAST-MODIFIED:20250918T183838Z
UID:10002418-1765908000-1765922400@divinebarrel.com
SUMMARY:Bring Your Own Vinyl night
DESCRIPTION:Bring Your Own Vinyl the first and third Tuesday night every month at Divine Barrel! Listen\, talk and share your favorite records\, dig through our house crate\, or check out new vinyl from our Premium Sound pop-up shop!
URL:https://divinebarrel.com/upcoming-event/bring-your-own-vinyl-night-3/2025-12-16/
LOCATION:Divine Barrel Brewing\, 3701 North Davidson Street\, Charlotte\, NC\, 28205\, United States
CATEGORIES:Arts & Culture
ORGANIZER;CN="Divine Barrel Brewing":MAILTO:info@divinebarrel.com
GEO:35.250218722682;-80.796329286936
X-APPLE-STRUCTURED-LOCATION;VALUE=URI;X-ADDRESS=Divine Barrel Brewing 3701 North Davidson Street Charlotte NC 28205 United States;X-APPLE-RADIUS=500;X-TITLE=3701 North Davidson Street:geo:-80.796329286936,35.250218722682
END:VEVENT
BEGIN:VEVENT
DTSTART;TZID=America/New_York:20251222T190000
DTEND;TZID=America/New_York:20251222T220000
DTSTAMP:20260419T133818
CREATED:20240311T175824Z
LAST-MODIFIED:20250115T165934Z
UID:10001807-1766430000-1766440800@divinebarrel.com
SUMMARY:Mindless Minutia Trivia with Dave Chase
DESCRIPTION:Mindless Minutia Trivia with Dave Chase\nEvery Monday is trivia night at Divine Barrel! Assemble your team for four rounds of trivia with host Dave Chase – the top three teams win brewery prizes! Expect rounds of general knowledge\, wordplay\, themes and more brain-burners that will get everyone on the team thinking. The deal gets even sweeter when you throw $10 flights into the mix – so grab your table\, pens and brainpower for weekly trivia at DBB!
URL:https://divinebarrel.com/upcoming-event/mindless-minutia-trivia-with-dave-chase/2025-12-22/
LOCATION:Divine Barrel Brewing\, 3701 North Davidson Street\, Charlotte\, NC\, 28205\, United States
CATEGORIES:Arts & Culture,Family Friendly,Game Night,Trivia Night
ATTACH;FMTTYPE=image/png:https://divinebarrel.com/wp-content/uploads/2024/03/monday-TV-vid.png
ORGANIZER;CN="Divine Barrel Brewing":MAILTO:info@divinebarrel.com
GEO:35.250218722682;-80.796329286936
X-APPLE-STRUCTURED-LOCATION;VALUE=URI;X-ADDRESS=Divine Barrel Brewing 3701 North Davidson Street Charlotte NC 28205 United States;X-APPLE-RADIUS=500;X-TITLE=3701 North Davidson Street:geo:-80.796329286936,35.250218722682
END:VEVENT
BEGIN:VEVENT
DTSTART;TZID=America/New_York:20251229T190000
DTEND;TZID=America/New_York:20251229T220000
DTSTAMP:20260419T133818
CREATED:20240311T175824Z
LAST-MODIFIED:20250115T165934Z
UID:10001808-1767034800-1767045600@divinebarrel.com
SUMMARY:Mindless Minutia Trivia with Dave Chase
DESCRIPTION:Mindless Minutia Trivia with Dave Chase\nEvery Monday is trivia night at Divine Barrel! Assemble your team for four rounds of trivia with host Dave Chase – the top three teams win brewery prizes! Expect rounds of general knowledge\, wordplay\, themes and more brain-burners that will get everyone on the team thinking. The deal gets even sweeter when you throw $10 flights into the mix – so grab your table\, pens and brainpower for weekly trivia at DBB!
URL:https://divinebarrel.com/upcoming-event/mindless-minutia-trivia-with-dave-chase/2025-12-29/
LOCATION:Divine Barrel Brewing\, 3701 North Davidson Street\, Charlotte\, NC\, 28205\, United States
CATEGORIES:Arts & Culture,Family Friendly,Game Night,Trivia Night
ATTACH;FMTTYPE=image/png:https://divinebarrel.com/wp-content/uploads/2024/03/monday-TV-vid.png
ORGANIZER;CN="Divine Barrel Brewing":MAILTO:info@divinebarrel.com
GEO:35.250218722682;-80.796329286936
X-APPLE-STRUCTURED-LOCATION;VALUE=URI;X-ADDRESS=Divine Barrel Brewing 3701 North Davidson Street Charlotte NC 28205 United States;X-APPLE-RADIUS=500;X-TITLE=3701 North Davidson Street:geo:-80.796329286936,35.250218722682
END:VEVENT
END:VCALENDAR