BEGIN:VCALENDAR
VERSION:2.0
PRODID:-//Divine Barrel Brewing - ECPv6.15.20//NONSGML v1.0//EN
CALSCALE:GREGORIAN
METHOD:PUBLISH
X-WR-CALNAME:Divine Barrel Brewing
X-ORIGINAL-URL:https://divinebarrel.com
X-WR-CALDESC:Events for Divine Barrel Brewing
REFRESH-INTERVAL;VALUE=DURATION:PT1H
X-Robots-Tag:noindex
X-PUBLISHED-TTL:PT1H
BEGIN:VTIMEZONE
TZID:America/New_York
BEGIN:DAYLIGHT
TZOFFSETFROM:-0500
TZOFFSETTO:-0400
TZNAME:EDT
DTSTART:20240310T070000
END:DAYLIGHT
BEGIN:STANDARD
TZOFFSETFROM:-0400
TZOFFSETTO:-0500
TZNAME:EST
DTSTART:20241103T060000
END:STANDARD
BEGIN:DAYLIGHT
TZOFFSETFROM:-0500
TZOFFSETTO:-0400
TZNAME:EDT
DTSTART:20250309T070000
END:DAYLIGHT
BEGIN:STANDARD
TZOFFSETFROM:-0400
TZOFFSETTO:-0500
TZNAME:EST
DTSTART:20251102T060000
END:STANDARD
BEGIN:DAYLIGHT
TZOFFSETFROM:-0500
TZOFFSETTO:-0400
TZNAME:EDT
DTSTART:20260308T070000
END:DAYLIGHT
BEGIN:STANDARD
TZOFFSETFROM:-0400
TZOFFSETTO:-0500
TZNAME:EST
DTSTART:20261101T060000
END:STANDARD
END:VTIMEZONE
BEGIN:VEVENT
DTSTART;TZID=America/New_York:20250425T190000
DTEND;TZID=America/New_York:20250425T220000
DTSTAMP:20260419T102733
CREATED:20250330T003131Z
LAST-MODIFIED:20250330T003131Z
UID:10002153-1745607600-1745618400@divinebarrel.com
SUMMARY:Sapphic Storytelling with Lesbian Friends of Charlotte
DESCRIPTION:Join us… \nFriday\, April 25th\, for an unforgettable night of laughter\, love\, and sapphic storytelling at Lesbian Friends of Charlotte’s next event! We’re shining the spotlight on the Queen City’s sapphic community with powerful\, funny\, and heartwarming stories that showcase the vibrant experiences of Charlotte’s women-loving-women. We’re looking for sapphic storytellers and poets to share their journeys. Whether it’s the hilarious mishaps of your first crush or the profound moment you embraced your authentic self\, we want to hear from YOU!  To participate\, you must: \n1. Be queer and out.\n2. Identify as a woman-loving-woman or sapphic\, nonbinary woman loving woman;\n3. Have some experience with storytelling (you can keep an audience hooked!);\n4. Be able to keep your story to 3-5 minutes;\n5. Have the ability to make us **laugh\, cry\, or think—**bonus points if you can do all three!  Feeling shy? No worries! Come and cheer on your fellow community members.  🌈 Get ready for a night filled with connection\, celebration\, and stories that will stay with you long after the night is over. This is the sapphic space you’ve been waiting for! 💃🏾🌈✨ \nTo be considered\, please send a brief bio along with a 100 word summary of the story\, poem\, song or comedy routine you want to share to: \nHeidiSamples@gmail.com no later than April 18th.
URL:https://divinebarrel.com/upcoming-event/sapphic-storytelling-with-lesbian-friends-of-charlotte-2/
CATEGORIES:Arts & Culture,Free Event,Networking & Social
ATTACH;FMTTYPE=image/png:https://divinebarrel.com/wp-content/uploads/2025/03/042525-Sapphic-Storytelling-TV-Slider.png
END:VEVENT
END:VCALENDAR